BEGIN:VCALENDAR
VERSION:2.0
PRODID:-//DIGITAL FACTORY//EVENTS MAKER V1.6.14//EN
CALSCALE:GREGORIAN
BEGIN:VEVENT
DTEND:20181003T040000Z
UID:69ebca672db67
DTSTAMP:20260424T195415Z
CATEGORIES:General Meetings\,Membership Events
LOCATION:Ryan's Saloon 
DESCRIPTION:Join the Sons &amp\; Daughters of Erin for their annual tradition honoring the founders of our organization with serving corned beef &amp\; cabbage from 6 to 9 p.m.\, Tuesday\, Oct. 2. Dinner cost and other details to be announced soon. We have invited the Sierra Silver Strings to perform. This will also be our inaugural gathering in our new general meeting place at Ryan's Saloon which has a full bar and a multi-purpose room\, which is located at 924 S Wells Ave in Reno. We will hold our monthly meeting there the first Tuesday of the month through May (excluding December and March for other events).
URL;VALUE=URI:https://irishnevada.org/events-2/event/2018-founders-day-dinner/
SUMMARY:2018 Founder&#039\;s Day Dinner
DTSTART:20181003T010000Z
END:VEVENT
END:VCALENDAR
