BEGIN:VCALENDAR
VERSION:2.0
PRODID:-//DIGITAL FACTORY//EVENTS MAKER V1.6.14//EN
CALSCALE:GREGORIAN
BEGIN:VEVENT
DTEND:20180818T210000Z
UID:69ebc9c4cfef1
DTSTAMP:20260424T195132Z
CATEGORIES:Membership Events
LOCATION:Seven Troughs Distillery 
DESCRIPTION:Seven Troughs is a local distillery that hand crafts small-batches of artisanal spirits utilizing a mid-19th century fermentation and distillation process. Come learn about the whiskey making process and sample some of their selection of whiskeys and other spirits.  Seven Troughs is located at 1155 Watson Way (off Glendale)\, Ste 5\, Sparks\, Nevada 89431
URL;VALUE=URI:https://irishnevada.org/events-2/event/7-troughs-whiskey-tasting-distillery-tour/
SUMMARY:7 Troughs Whiskey Tasting &amp\; Distillery Tour
DTSTART:20180818T190000Z
END:VEVENT
END:VCALENDAR
