BEGIN:VCALENDAR
VERSION:2.0
PRODID:-//DIGITAL FACTORY//EVENTS MAKER V1.6.14//EN
CALSCALE:GREGORIAN
BEGIN:VEVENT
DTEND:20250729T040000Z
UID:69ebb5cec246c
DTSTAMP:20260424T182622Z
CATEGORIES:Mixers
LOCATION:Bartley Ranch Regional Park 
DESCRIPTION:We encourage SADOE members to attend the free Skerryvore Scottish folk/rock band who will be playing as part of the month-long Artown Festival from 7 to 9 pm\, next Monday\, July 28 at the Robert Z Hawkins  Amphitheater in Bartley Ranch Regional Park.    Both our organization and our friends in the Nevada Society of Scottish Clans are encouraging our members to wear their Celtic attire at this event. You may bring portable chairs and blankets and picnic items (no glass) into the park.
URL;VALUE=URI:https://irishnevada.org/events-2/event/artown-celtic-band-skerryvore/
SUMMARY:Artown Celtic Band: Skerryvore
DTSTART:20250729T020000Z
END:VEVENT
END:VCALENDAR
