BEGIN:VCALENDAR
VERSION:2.0
PRODID:-//DIGITAL FACTORY//EVENTS MAKER V1.6.14//EN
CALSCALE:GREGORIAN
BEGIN:VEVENT
DTEND:20250712T060000Z
UID:69ebb4ef894bd
DTSTAMP:20260424T182239Z
CATEGORIES:Membership Events\,Mixers
LOCATION:Reno Public Market 299 E Plumb Lane, Reno, Nevada, 89502, US
DESCRIPTION:You are invited to the 3rd Annual Artown Celtic Night @ Reno Public Market featuring a showcase of local Celtic entertainers performing from 4p-11p and headliner Culann's Hounds  capping the night off until 11 pm. This will be a joint gathering of the Nevada Society of Scottish Clans and the Sons &amp\; Daughters of Erin.    Get ready to immerse yourself in the rich traditions and vibrant culture of the Celts at Reno Public Market's Celtic Night!      Join us for this special joint gathering of the Sons &amp\; Daughters of Erin and Nevada Society of Scottish Clans as we come together to celebrate Celtic cuisine\, heritage\, music\, dance\, and more. Prepare for an unforgettable evening filled with captivating performances by talented artists.    Local entertainers include     	Featuring Performances By:   	Culann's Hounds   	Sierra Highlanders Piper Band   	Plastic Paddy   	Sierra Silverstrings   	Battleborn Scottish Highland Dancers   	McKeever Irish Dancers   	Scotty Cozen   	Kat McMartin and Karrie O'Neill.        This event is free\, family friendly and will offer 16 different restaurants as well as a central bar.
URL;VALUE=URI:https://irishnevada.org/events-2/event/artown-celtic-night/
SUMMARY:3rd Annual Artown Celtic Night @ Reno Public Market
DTSTART:20250711T230000Z
END:VEVENT
END:VCALENDAR
