BEGIN:VCALENDAR
VERSION:2.0
PRODID:-//DIGITAL FACTORY//EVENTS MAKER V1.6.14//EN
CALSCALE:GREGORIAN
BEGIN:VEVENT
DTEND:20190519T010000Z
UID:69ebc90528240
DTSTAMP:20260424T194821Z
LOCATION:Bartley Ranch Regional Park 
DESCRIPTION:Join the Sons &amp\; Daughters of Erin at the Annual Celtic Celebration!    Volunteer Signups: If you or a group would like to volunteer to help cover the SADOE booth during the event we will have signups at General Meetings or your can contact info@irishnevada.org.    Children 12 &amp\; under are FREE with a paid attendee.  Tickets are purchased in advance via Reno Celtic website or at the entrance to the event.    Tickets: https://www.renoceltic.org/
URL;VALUE=URI:https://irishnevada.org/events-2/event/celtic-celebration-at-unr-night-of-all-nations-2/
SUMMARY:Celtic Celebration at Bartley Ranch
DTSTART:20190518T160000Z
END:VEVENT
END:VCALENDAR
