BEGIN:VCALENDAR
VERSION:2.0
PRODID:-//DIGITAL FACTORY//EVENTS MAKER V1.6.14//EN
CALSCALE:GREGORIAN
BEGIN:VEVENT
DTEND:20180714T040000Z
UID:69ebb63d56486
DTSTAMP:20260424T182813Z
CATEGORIES:Membership Events\,Mixers
LOCATION:Idlewild Park 
DESCRIPTION:Join the Sons &amp\; Daughters of Erin gathering at Idlewild Park during for the Reno Street Food event which includes over 35 local mobile food vendors. We will be adjacent to the Ceol Irish Pub Thirst Relief Unit Mobile Beer Truck. This event is family friendly and includes local musicians and entertainers. Wear green to show your Irish pride.
URL;VALUE=URI:https://irishnevada.org/events-2/event/food-truck-friday-irish-night/
SUMMARY:Food Truck Friday Irish Night
DTSTART:20180713T230000Z
END:VEVENT
END:VCALENDAR
