BEGIN:VCALENDAR
VERSION:2.0
PRODID:-//DIGITAL FACTORY//EVENTS MAKER V1.6.14//EN
CALSCALE:GREGORIAN
BEGIN:VEVENT
DTEND:20240609T200000Z
UID:69ebb44a76e85
DTSTAMP:20260424T181954Z
CATEGORIES:Membership Events
LOCATION:Roller Kingdom 
DESCRIPTION:The Nevada Society of Scottish Clans and The Sons &amp\; Daughters of Erin are sponsoring the inaugural "Kilt Skate" from 11am to 1 pm\, on Sunday\, June 2 at Roller Kingdom\, 515 E 7th St.\, in Downtown Reno.  This is a free family friendly activity for members big and small. Non-members will be asked for a small donation. Rock out to Irish and Scottish music. Kilts and colors encouraged. No fees for skate rental.    SADOE and the NSSC are presenting this event offer more family friendly gatherings and  to encourage younger members to celebrate our Celtic Culture. We encourage you to bring friends and family who may have an interest in Scottish and Irish Culture. For more info\, call 775-378-0931.
URL;VALUE=URI:https://irishnevada.org/events-2/event/kiltskate/
SUMMARY:Inaugural Kilt Skate
DTSTART:20240609T180000Z
END:VEVENT
END:VCALENDAR
