BEGIN:VCALENDAR
VERSION:2.0
PRODID:-//DIGITAL FACTORY//EVENTS MAKER V1.6.14//EN
CALSCALE:GREGORIAN
BEGIN:VEVENT
DTEND:20260315T030000Z
UID:69eb8ed16df1a
DTSTAMP:20260424T154001Z
CATEGORIES:Membership Events\,Mixers
DESCRIPTION:SADOE is the charity benefitting from Leprechaun Crawl this year and we encourage you to support the event. The proceeds will assist us in our Northern Nevada Celtic Ceilidh in May and we appreciate Crawl Reno's financial support.    SADOE will have a table at the Leprechaun Crawl Cup Redemption area in Circus Circus from 6 to 8pm where we will promote our organization and its upcoming activities.    We will then hit the streets of Downtown Reno  along with Bagpiper Jes Stewart from the Sierra Highlanders Pipe Band to promote our upcoming events.    For more information\, and to order a cup online\, click here.
URL;VALUE=URI:https://irishnevada.org/events-2/event/leprechaun-crawl/
SUMMARY:SADOE @ The Leprechaun Crawl
DTSTART:20260315T010000Z
RDATE:20260314T180000Z;
END:VEVENT
END:VCALENDAR
