BEGIN:VCALENDAR
VERSION:2.0
PRODID:-//DIGITAL FACTORY//EVENTS MAKER V1.6.14//EN
CALSCALE:GREGORIAN
BEGIN:VEVENT
DTEND:20251008T030000Z
UID:69ebef188369d
DTSTAMP:20260424T223048Z
CATEGORIES:General Meetings
LOCATION:Fox Brewpub Reno 
DESCRIPTION:Our general meeting resume at Fox's Brewpub\, located at 124 Wonder in Midwest Reno.  Social hour begins at 6pm. Meeting starts at 6:30 pm. SADOE President Willie Puchert will do a presentation on the Isle of Mann.    &nbsp\;
URL;VALUE=URI:https://irishnevada.org/events-2/event/october-general-meeting/
SUMMARY:October General Meeting
DTSTART:20251008T010000Z
END:VEVENT
END:VCALENDAR
