BEGIN:VCALENDAR
VERSION:2.0
PRODID:-//DIGITAL FACTORY//EVENTS MAKER V1.6.14//EN
CALSCALE:GREGORIAN
BEGIN:VEVENT
DTEND:20250621T220000Z
UID:69ebb58b3c9d9
DTSTAMP:20260424T182515Z
CATEGORIES:Membership Events
LOCATION:Rancho San Rafael Park 
DESCRIPTION:Save the date for our annual picnic at St. Patrick's Grove\, which is located at the Sierra St. entrance of Ranch San Rafael. SADOE will provide hamburgers\, hot dogs\, soda and water. We ask all bring a dish to share. We will be honoring our new members at the picnic.
URL;VALUE=URI:https://irishnevada.org/events-2/event/sadoe-annual-picnic/
SUMMARY:SADOE Annual Picnic
DTSTART:20250621T190000Z
END:VEVENT
END:VCALENDAR
