BEGIN:VCALENDAR
VERSION:2.0
PRODID:-//DIGITAL FACTORY//EVENTS MAKER V1.6.14//EN
CALSCALE:GREGORIAN
BEGIN:VEVENT
DTEND:20191204T043000Z
UID:69ebb54c30a5f
DTSTAMP:20260424T182412Z
CATEGORIES:Mixers
LOCATION:Ceol Irish Pub 538 S Virginia St, Reno, Nevada, 89501, US
DESCRIPTION:Come celebrate Christmas with your fellow Irish at Ceol Irish Pub\, located at 538 S Virginia St in Midtown Reno\, with music provided by the Irish Sessiun Musicians. This will be a potluck so bring a dish to share.
URL;VALUE=URI:https://irishnevada.org/events-2/event/sadoe-christmas-party/
SUMMARY:SADOE Christmas Party
DTSTART:20191204T020000Z
END:VEVENT
END:VCALENDAR
