BEGIN:VCALENDAR
VERSION:2.0
PRODID:-//DIGITAL FACTORY//EVENTS MAKER V1.6.14//EN
CALSCALE:GREGORIAN
BEGIN:VEVENT
DTEND:20180703T010000Z
UID:69ebca3705ff1
DTSTAMP:20260424T195327Z
LOCATION:Bartley Ranch Regional Park 
DESCRIPTION:Artown's first Monday Night Music Series in July features We Banjo 3\, a band from Galway\, Ireland that plays a blend of traditional Irish\, old time\, and bluegrass music they call Celtgrass. The band is composed of two sets of brothers\, Enda and Fergal Scahill and Martin and David Howley.    Come out and join your fellow SADOE members with a picnic dinner. The event is free and suitable for the whole family.
URL;VALUE=URI:https://irishnevada.org/events-2/event/sadoe-gathering-irish-bluegrass-band-banjo-3/
SUMMARY:SADOE Gathering: Irish Bluegrass Band We Banjo 3
DTSTART:20180703T010000Z
END:VEVENT
END:VCALENDAR
