BEGIN:VCALENDAR
VERSION:2.0
PRODID:-//DIGITAL FACTORY//EVENTS MAKER V1.6.14//EN
CALSCALE:GREGORIAN
BEGIN:VEVENT
DTEND:20200620T230000Z
UID:69ebb54bdc5bd
DTSTAMP:20260424T182411Z
CATEGORIES:Membership Events
LOCATION:Total Wine 
DESCRIPTION:Total Wine is hosting a Whiskey Tasting for members of the Sons &amp\; Daughters of Erin. Participants will learn about the differing tastes and production qualities of the whiskey as it ages in a casual setting in stores Tasting Room where snacks will be served. This event is limited to 25 people on a first come first serve basis. A $10 fee will be charged per person and will be used towards a drawing for gift certificates to be used within the store. This event is intended for members and guests of SADOE who are 21 and over.    YOU MUST RSVP BY E-MAILING WPUCHERT@AOL.COM OR CALL 775-378-0931.  NOTE: This event precedes an Irish Miniature Golf Tournament\, which will be held at 3 p.m. after this event at the Magic Carpet Miniature Golf Course next door.
URL;VALUE=URI:https://irishnevada.org/events-2/event/whiskey-tasting-hosted-by-total-wine/
SUMMARY:Whiskey Tasting hosted by Total Wine
DTSTART:20200620T220000Z
END:VEVENT
END:VCALENDAR
